BEGIN:VCALENDAR
VERSION:2.0
PRODID:-//Capital Health Plan - ECPv6.15.9//NONSGML v1.0//EN
CALSCALE:GREGORIAN
METHOD:PUBLISH
X-WR-CALNAME:Capital Health Plan
X-ORIGINAL-URL:https://capitalhealth.com
X-WR-CALDESC:Events for Capital Health Plan
REFRESH-INTERVAL;VALUE=DURATION:PT1H
X-Robots-Tag:noindex
X-PUBLISHED-TTL:PT1H
BEGIN:VTIMEZONE
TZID:America/New_York
BEGIN:DAYLIGHT
TZOFFSETFROM:-0500
TZOFFSETTO:-0400
TZNAME:EDT
DTSTART:20240310T070000
END:DAYLIGHT
BEGIN:STANDARD
TZOFFSETFROM:-0400
TZOFFSETTO:-0500
TZNAME:EST
DTSTART:20241103T060000
END:STANDARD
BEGIN:DAYLIGHT
TZOFFSETFROM:-0500
TZOFFSETTO:-0400
TZNAME:EDT
DTSTART:20250309T070000
END:DAYLIGHT
BEGIN:STANDARD
TZOFFSETFROM:-0400
TZOFFSETTO:-0500
TZNAME:EST
DTSTART:20251102T060000
END:STANDARD
BEGIN:DAYLIGHT
TZOFFSETFROM:-0500
TZOFFSETTO:-0400
TZNAME:EDT
DTSTART:20260308T070000
END:DAYLIGHT
BEGIN:STANDARD
TZOFFSETFROM:-0400
TZOFFSETTO:-0500
TZNAME:EST
DTSTART:20261101T060000
END:STANDARD
END:VTIMEZONE
BEGIN:VEVENT
DTSTART;TZID=America/New_York:20250301T090000
DTEND;TZID=America/New_York:20250301T170000
DTSTAMP:20260419T151142
CREATED:20250320T134717Z
LAST-MODIFIED:20250320T151910Z
UID:10000001-1740819600-1740848400@capitalhealth.com
SUMMARY:Walk With a Doc: Colon screening
DESCRIPTION:March is the time to take action for your health! Join Capital Health Plan’s Walk with a Doc for a morning of movement and learning as Gastroenterologist\, Dr. Kishor Muniyappa leads an informative discussion on colon cancer screenings. \nThis free event takes place at JR Alford Greenway on Saturday\, March 1\, from 9 a.m. to 10 a.m. Walkers of all levels are welcome\, and no pre-registration is required. Together\, let’s focus on prevention and well-being for a healthier community. \nFor more details or to pre-register\, visit https://walkwithadoc.org/join-a-walk/locations/tallahassee-fl/.
URL:https://capitalhealth.com/event/walk-with-a-doc-colon-screening-2025/
LOCATION:FL
CATEGORIES:CHP Event
END:VEVENT
BEGIN:VEVENT
DTSTART;TZID=America/New_York:20250307T120000
DTEND;TZID=America/New_York:20250307T130000
DTSTAMP:20260419T151142
CREATED:20250405T223253Z
LAST-MODIFIED:20250422T144721Z
UID:10000424-1741348800-1741352400@capitalhealth.com
SUMMARY:The Savvy Senior
DESCRIPTION:Topic: Tara Loucks – Colorectal Care \nLocation: Governor’s Square Health Center\, 1491 Governor’s Square Blvd.\, Tallahassee\, FL 32301 \nThe Savvy Senior is a series of lunch and learn programs for older adults who want to learn more about creating and maintaining healthy\, happy\, and active lifestyles. Open to the Public. Due to Covid precautions this event has a max in person attendance allowed of 25. Reservations are required. Please RSVP by calling 850-523-7441 or 1-877-247-6512 (TTY 850-383-3534 or 1-877-870-8943). You can also RSVP online by emailing Member Services. For accommodations of persons with special needs call 850-523-7441 or 1-877-247-6512 (TTY 850-383-3534 or 1-877-870-8934).
URL:https://capitalhealth.com/event/the-savvy-senior-030725/
LOCATION:Governor’s Square Health Center\, 1491 Governor's Square Blvd.\, Tallahassee\, FL\, 32301\, United States
CATEGORIES:Medicare
END:VEVENT
BEGIN:VEVENT
DTSTART;TZID=America/New_York:20250310T103000
DTEND;TZID=America/New_York:20250310T170000
DTSTAMP:20260419T151142
CREATED:20250320T135016Z
LAST-MODIFIED:20250506T154613Z
UID:10000003-1741602600-1741626000@capitalhealth.com
SUMMARY:New Member Orientation (2nd Quarter) - Sandy
DESCRIPTION:Location: Governor’s Square Health Center\, 1491 Governor’s Square Blvd.\, Tallahassee\, FL 32301
URL:https://capitalhealth.com/event/nmo-2nd-quarter-sandy/
LOCATION:Governor’s Square Health Center\, 1491 Governor's Square Blvd.\, Tallahassee\, FL\, 32301\, United States
CATEGORIES:Medicare
END:VEVENT
BEGIN:VEVENT
DTSTART;TZID=America/New_York:20250312T100000
DTEND;TZID=America/New_York:20250312T110000
DTSTAMP:20260419T151142
CREATED:20250106T001029Z
LAST-MODIFIED:20251223T202112Z
UID:10000440-1741773600-1741777200@capitalhealth.com
SUMMARY:Silver Advantage (HMO)\, Advantage Plus (HMO)\, Giveback Advantage (HMO)\, and Preferred Advantage (HMO) Seminar
DESCRIPTION:Attend one of our seminars to learn more about CHP Silver Advantage (HMO)\, CHP Advantage Plus (HMO)\, CHP Giveback Advantage (HMO)\,and CHP Preferred Advantage (HMO). These Medicare Advantage plans are available to anyone who is entitled to Medicare Part A\, enrolled in Medicare Part B\, and live in the CHP Service Area. Please RSVP by calling 850-518-6679 or 1-877-247-6512 (TTY 850-383-3534 or 1-877-870-8943). You can also RSVP online by emailing CHP’s Medicare Sales Department. \nA sales person will be present with information and applications. For accommodations of persons with special needs at sales meetings call 850-518-6679 or 1-877-247-6512 (TTY 850-383-3534 or 1-877-870-8943). \nTime: 10:00am – 11:00am EST \nLocation: Metropolitan Health Center\, 1264 Metropolitan Blvd.\, Tallahassee \nAll in person seminars will abide by appropriate social distancing measures and proper mask protocols as recommended by the Centers for Disease Control (CDC). If you are uncomfortable with an in-person seminar\, we do offer live virtual and prerecorded seminars for your convenience. Please call or email us to RSVP or for more information.
URL:https://capitalhealth.com/event/silver-advantage-hmo-advantage-plus-hmo-and-preferred-advantage-hmo-seminar-2/2025-03-12/
LOCATION:FL
CATEGORIES:Medicare
END:VEVENT
BEGIN:VEVENT
DTSTART;TZID=America/New_York:20250321T120000
DTEND;TZID=America/New_York:20250321T130000
DTSTAMP:20260419T151142
CREATED:20250403T235608Z
LAST-MODIFIED:20250422T144426Z
UID:10000419-1742558400-1742562000@capitalhealth.com
SUMMARY:The Savvy Senior
DESCRIPTION:Topic: Tara Loucks – Colorectal Care \nLocation: Metropolitan Health Center\, 1264 Metropolitan Blvd.\, Tallahassee\, FL 32301 \nThe Savvy Senior is a series of lunch and learn programs for older adults who want to learn more about creating and maintaining healthy\, happy\, and active lifestyles. Open to the Public. Due to Covid precautions this event has a max in person attendance allowed of 25. Reservations are required. Please RSVP by calling 850-523-7441 or 1-877-247-6512 (TTY 850-383-3534 or 1-877-870-8943). You can also RSVP online by emailing Member Services. For accommodations of persons with special needs call 850-523-7441 or 1-877-247-6512 (TTY 850-383-3534 or 1-877-870-8934).
URL:https://capitalhealth.com/event/the-savvy-senior-032125/
LOCATION:Metropolitan Health Center\, 1264 Metropolitan Blvd.\, Tallahassee\, FL\, 32312\, United States
CATEGORIES:Medicare
END:VEVENT
BEGIN:VEVENT
DTSTART;TZID=America/New_York:20250326T173000
DTEND;TZID=America/New_York:20250326T183000
DTSTAMP:20260419T151142
CREATED:20250106T001700Z
LAST-MODIFIED:20251223T202246Z
UID:10000558-1743010200-1743013800@capitalhealth.com
SUMMARY:Retiree Advantage (HMO) Seminar
DESCRIPTION:Attend one of our seminars to learn more about CHP Retiree Advantage (HMO). Retiree Advantage (HMO) is an employer sponsored Medicare Advantage plan offered as a retiree benefit to Medicare eligible retirees and their Medicare eligible dependents. Please call CHP or your employer/former employer to determine if this benefit is available to you. Please RSVP by calling 850-523-7441 or 1-877-247-6512 (TTY 850-383-3534 or 1-877-870-8943). You can also RSVP online by emailing CHP’s Medicare Sales Department. \nA sales person will be conducting the seminar in person and will be present with information and applications. For accommodations of persons with special needs at sales meetings call 850-523-7441 or 1-877-247-6512 (TTY 850-383-3534 or 1-877-870-8943). \nState of Florida members call 1-877-392-1532\, 7:00 a.m. – 7:00 p.m. \nLocation: Metropolitan Health Center\, 1264 Metropolitan Blvd.\, Tallahassee \nFor your convenience\, Capital Health Plan has pre-recorded the Retiree Advantage (HMO) Seminar. Please click the below link to view: \nRetiree Advantage Seminar \nAll in person seminars will abide by appropriate social distancing measures and proper mask protocols as recommended by the Centers for Disease Control (CDC). If you are uncomfortable with an in-person seminar\, we do offer prerecorded and live virtual seminars for your convenience. Please call or email us for more information.
URL:https://capitalhealth.com/event/retiree-advantage-hmo-seminar-2/2025-03-26/
LOCATION:FL
CATEGORIES:Medicare
END:VEVENT
END:VCALENDAR